BEGIN:VCALENDAR
VERSION:2.0
PRODID:-//Hyle Book Festival - ECPv6.0.10//NONSGML v1.0//EN
CALSCALE:GREGORIAN
METHOD:PUBLISH
X-WR-CALNAME:Hyle Book Festival
X-ORIGINAL-URL:https://hylebookfestival.it
X-WR-CALDESC:Eventi per Hyle Book Festival
REFRESH-INTERVAL;VALUE=DURATION:PT1H
X-Robots-Tag:noindex
X-PUBLISHED-TTL:PT1H
BEGIN:VTIMEZONE
TZID:UTC
BEGIN:STANDARD
TZOFFSETFROM:+0000
TZOFFSETTO:+0000
TZNAME:UTC
DTSTART:20230101T000000
END:STANDARD
END:VTIMEZONE
BEGIN:VEVENT
DTSTART;TZID=UTC:20230816T100000
DTEND;TZID=UTC:20230816T110000
DTSTAMP:20260423T101906
CREATED:20230713T090959Z
LAST-MODIFIED:20230721T091610Z
UID:10000002-1692180000-1692183600@hylebookfestival.it
SUMMARY:Poetry in the street. Spettacolo letterario sui trampoli
DESCRIPTION:Una dama onirica si aggira per il villaggio. Il suo abito è tessuto con pagine di libro. Il nome della dama è Pagina Alta e ama donare a chi incontra nel suo cammino le parole degli scrittori e dei poeti che porta con sé. Una canna da pesca fa da ponte in questo incontro. \n🌧️ In caso di pioggia l’evento si svolgerà presso il Teatro di Località Cutura.
URL:https://hylebookfestival.it/evento/poetry-in-the-street/
LOCATION:Piazzetta Villaggio Mancuso\, 88055\, Strada Statale 179 Dir\, 10\, Villaggio Mancuso CZ
CATEGORIES:Esperienze letterarie
ATTACH;FMTTYPE=image/png:https://hylebookfestival.it/wp-content/uploads/2023/07/poetrysito.png
END:VEVENT
BEGIN:VEVENT
DTSTART;TZID=UTC:20230816T160000
DTEND;TZID=UTC:20230816T173000
DTSTAMP:20260423T101906
CREATED:20230713T105650Z
LAST-MODIFIED:20230714T091003Z
UID:10000006-1692201600-1692207000@hylebookfestival.it
SUMMARY:Andai nei boschi. Passeggiata eco-letteraria
DESCRIPTION:In collaborazione con Plastic Free. \n«Andai nei boschi perché desideravo vivere con saggezza\, per affrontare solo i fatti essenziali della vita e per non scoprire\, in punto di morte\, che non ero vissuto» scriveva Thoreau in “Walden”. A contatto con la natura e le parole e in ascolto delle loro armonie\, una passeggiata all’insegna della sostenibilità\,  dell’ambiente\, della narrazione. \n👉 La passeggiata\, in collaborazione con Plastic Free\, prevede la rimozione dei rifiuti lungo il cammino.\n \n📍 Punto di incontro: Piazzetta di Villaggio Mancuso \n🌧️ In caso di pioggia l’evento sarà annullato. \n 
URL:https://hylebookfestival.it/evento/andai-nei-boschi/
LOCATION:Piazzetta Villaggio Mancuso\, 88055\, Strada Statale 179 Dir\, 10\, Villaggio Mancuso CZ
CATEGORIES:Di passo in passo
ATTACH;FMTTYPE=image/png:https://hylebookfestival.it/wp-content/uploads/2023/07/boschisito.png
END:VEVENT
BEGIN:VEVENT
DTSTART;TZID=UTC:20230817T100000
DTEND;TZID=UTC:20230817T113000
DTSTAMP:20260423T101906
CREATED:20230713T154225Z
LAST-MODIFIED:20230713T174135Z
UID:10000010-1692266400-1692271800@hylebookfestival.it
SUMMARY:"Re Pipariellu". La fiaba di Letterio Di Francia
DESCRIPTION:Spettacolo di burattini a cura di Company Aiello.\nA seguire laboratorio creativo e sostenibile sul teatro di figura con materiali di riciclo. \nLa principessa Reginella non è affatto entusiasta dei suoi potenziali pretendenti e decide di realizzare il suo futuro sposo utilizzando farina\, zucchero\, ed un peperoncino piccante per la bocca. Ma quando una regina cattiva rapisce Re Pipariallu\, la Reginella deve mettere in atto un coraggioso salvataggio! \nRivisitando la nota fiaba popolare calabrese di “Re Pepe”\, recuperata dal novellista di Palmi Letterio Di Francia e oggi pubblicata da Donzelli Editore\, Company Aiello propone uno spettacolo di figura\, l’arte che raccoglie tecniche\, linguaggi e repertori di burattini\, marionette\, pupi e ombra. \nLo spettacolo diventa poi punto di partenza per imparare realizzare burattini e marionette con materiali di scarto quotidiano. Un laboratorio che partendo dalla fiaba\, grande contenitore d’immaginario\, permette di diventare “attori” per un giorno\, giocare\, fare teatro e divertirsi all’insegna della creatività e della sostenibilità. \n🌧️ In caso di pioggia l’evento si svolgerà presso il Teatro di Località Cutura.
URL:https://hylebookfestival.it/evento/re-pipariellu/
LOCATION:Piazzetta Villaggio Mancuso\, 88055\, Strada Statale 179 Dir\, 10\, Villaggio Mancuso CZ
CATEGORIES:Hyle Garden
ATTACH;FMTTYPE=image/png:https://hylebookfestival.it/wp-content/uploads/2023/07/repepesito.png
END:VEVENT
BEGIN:VEVENT
DTSTART;TZID=UTC:20230817T160000
DTEND;TZID=UTC:20230817T171500
DTSTAMP:20260423T101906
CREATED:20230713T160050Z
LAST-MODIFIED:20230714T090940Z
UID:10000013-1692288000-1692292500@hylebookfestival.it
SUMMARY:L'armonia che è nel vento. Passeggiata naturalpoetica
DESCRIPTION:In collaborazione con FAI e Esperiandanti. \nLa natura si intreccia alla letteratura in una passeggiata alla scoperta del Parco Nazionale della Sila\, guidati dal FAI Fondo Ambiente Italiano e dalla Guida AIGAE Esperiandanti. \nA scandire il suono dei passi\, la poesia\, quella che ha saputo descrivere le armonie della natura intrecciate alla vita: da Wislawa Szymborska a William Shakespeare\, da Franco Costabile ad Alda Merini\, da Emily Dickinson a Robert Frost\, una selezione di suggestioni\, per una passeggiata “di passo in passo”\, all’insegna dei sentieri dell’anima e dell’ambiente che ci circonda. \n🎭 Letture di Barbara Pullano. \n📍 Punto di incontro: Piazzetta di Villaggio Mancuso. \n🌧️ In caso di pioggia l’evento sarà annullato.
URL:https://hylebookfestival.it/evento/larmonia-che-e-nel-vento/
LOCATION:Piazzetta Villaggio Mancuso\, 88055\, Strada Statale 179 Dir\, 10\, Villaggio Mancuso CZ
CATEGORIES:Di passo in passo
ATTACH;FMTTYPE=image/png:https://hylebookfestival.it/wp-content/uploads/2023/07/poesiasit.png
END:VEVENT
END:VCALENDAR