BEGIN:VCALENDAR
VERSION:2.0
PRODID:-//Hyle Book Festival - ECPv6.0.10//NONSGML v1.0//EN
CALSCALE:GREGORIAN
METHOD:PUBLISH
X-ORIGINAL-URL:https://hylebookfestival.it
X-WR-CALDESC:Eventi per Hyle Book Festival
REFRESH-INTERVAL;VALUE=DURATION:PT1H
X-Robots-Tag:noindex
X-PUBLISHED-TTL:PT1H
BEGIN:VTIMEZONE
TZID:UTC
BEGIN:STANDARD
TZOFFSETFROM:+0000
TZOFFSETTO:+0000
TZNAME:UTC
DTSTART:20230101T000000
END:STANDARD
END:VTIMEZONE
BEGIN:VEVENT
DTSTART;TZID=UTC:20230816T110000
DTEND;TZID=UTC:20230816T120000
DTSTAMP:20260419T142729
CREATED:20230713T105819Z
LAST-MODIFIED:20230713T174412Z
UID:10000003-1692183600-1692187200@hylebookfestival.it
SUMMARY:Favole sotto le coperte. Laboratorio letto-creativo per bambini
DESCRIPTION:A cura dell’Associazione Le Scimmiette.\nIn collaborazione con Lanificio Leo e Rubbettino. \nIn collaborazione con la casa editrice Rubbettino e Lanificio Leo\, un laboratorio tra fili\, libri e gomitoli per stimolare la tattilità\, assaporare la bellezza delle cose fatte a mano e vivere la meraviglia delle storie raccontate oralmente\, a partire dalla collana editoriale “Favole sotto le coperte”. \n🧶 Durante l’evento sarà possibile visionare l’esposizione dei lavori e dei manufatti del Lanificio presso Martina Sport.
URL:https://hylebookfestival.it/evento/favole-sotto-le-coperte-laboratorio-letto-creativo-per-bambini/
LOCATION:Martina Sport e La Terrazza del Buongustaio\, Via Eugenio Mancuso\, 88055 Taverna CZ
CATEGORIES:Hyle Garden
ATTACH;FMTTYPE=image/png:https://hylebookfestival.it/wp-content/uploads/2023/07/favolesito.png
END:VEVENT
BEGIN:VEVENT
DTSTART;TZID=UTC:20230816T150000
DTEND;TZID=UTC:20230816T160000
DTSTAMP:20260419T142729
CREATED:20230713T094732Z
LAST-MODIFIED:20230713T174347Z
UID:10000005-1692198000-1692201600@hylebookfestival.it
SUMMARY:I colori del buio. Conversazione con Francesca Anili
DESCRIPTION:In collaborazione con Liquorificio Gentile. \nTre storie di donne\, intrecciate dai fili del sangue e dalle emozioni della maternità. Le unisce un misterioso dipinto che darà ad Anna\, la protagonista\, l’occasione di cambiare la sua vita. Con l’aiuto silenzioso di un famoso pittore\, Mattia Preti\, e sullo sfondo di una città del Sud\, la preziosa testimonianza di una storia di riscatto e di nostalgia. \n🥃 Un salotto\, un libro\, un amaro: è l’idea nata in collaborazione con Liquorificio Gentile\, grazie al quale\, durante l’evento\, sarà possibile degustare l’Amaro Eremita\, Medaglia d’Oro al World Liqueur Awards 2022. \n🗣️ Con Francesca Berardelli\, Club del Libro San Mango D’Aquino.
URL:https://hylebookfestival.it/evento/i-colori-del-buio/
LOCATION:Martina Sport e La Terrazza del Buongustaio\, Via Eugenio Mancuso\, 88055 Taverna CZ
CATEGORIES:Un salotto, un libro, un amaro
ATTACH;FMTTYPE=image/png:https://hylebookfestival.it/wp-content/uploads/2023/07/anilisito.png
END:VEVENT
BEGIN:VEVENT
DTSTART;TZID=UTC:20230817T113000
DTEND;TZID=UTC:20230817T123000
DTSTAMP:20260419T142729
CREATED:20230713T155206Z
LAST-MODIFIED:20230713T174129Z
UID:10000011-1692271800-1692275400@hylebookfestival.it
SUMMARY:Il sole d'argento. Conversazione con Leonardo Mastia
DESCRIPTION:In collaborazione con Liquorificio Gentile. \nDon Mimì è un uomo disponibile e generoso\, ma tutti sanno che la sua vera specializzazione sono le truffe. Terenzio è un giovane carabiniere che vede nella giustizia la bussola della sua strada. Quando il destino li fa incontrare\, le loro vite iniziano a scorrere in parallelo\, entrambe in fuga da qualcosa\, entrambe rivolte verso una salvezza. “Il sole d’argento” (Cairo Editore) è la storia di una quotidianità dolceamara\, una riflessione sul destino\, il cambiamento\, la rinascita. \n🥃 Un salotto\, un libro\, un amaro: è l’idea nata in collaborazione con Liquorificio Gentile\, grazie al quale\, durante l’evento\, sarà possibile degustare l’Amaro Eremita\, Medaglia d’Oro al World Liqueur Awards 2022. \n🗣️ Con Salvatore Mazzei\, docente e avvocato.
URL:https://hylebookfestival.it/evento/il-sole-dargento/
LOCATION:Martina Sport e La Terrazza del Buongustaio\, Via Eugenio Mancuso\, 88055 Taverna CZ
CATEGORIES:Un salotto, un libro, un amaro
ATTACH;FMTTYPE=image/png:https://hylebookfestival.it/wp-content/uploads/2023/07/Copertine-eventi-sito-1.png
END:VEVENT
BEGIN:VEVENT
DTSTART;TZID=UTC:20230818T110000
DTEND;TZID=UTC:20230818T120000
DTSTAMP:20260419T142729
CREATED:20230713T161437Z
LAST-MODIFIED:20230713T174021Z
UID:10000017-1692356400-1692360000@hylebookfestival.it
SUMMARY:L'armonia che è in noi. A caccia di identità
DESCRIPTION:Chi leggerà questo libro intraprenderà un meraviglioso viaggio! Il racconto de “Il Signor non si sa” (Edizioni La Meridiana) di Chiara Liuzzi narra della bizzarra avventura di uno strano signore che va a caccia della sua identità\, attraverso luoghi altrettanto strani e immaginifici\, e attraverso incontri strabilianti. E tu\, riuscirai a trovare la tua voce\, e la tua identità? Un laboratorio per divertirsi\, conoscersi ed entrare in contatto con le proprie emozioni.
URL:https://hylebookfestival.it/evento/larmonia-che-e-in-noi/
LOCATION:Martina Sport e La Terrazza del Buongustaio\, Via Eugenio Mancuso\, 88055 Taverna CZ
CATEGORIES:Hyle Garden
ATTACH;FMTTYPE=image/png:https://hylebookfestival.it/wp-content/uploads/2023/07/liuzzisito.png
END:VEVENT
BEGIN:VEVENT
DTSTART;TZID=UTC:20230818T150000
DTEND;TZID=UTC:20230818T160000
DTSTAMP:20260419T142729
CREATED:20230713T162033Z
LAST-MODIFIED:20230713T174014Z
UID:10000018-1692370800-1692374400@hylebookfestival.it
SUMMARY:Borghi di armonia. Conversazione con Giovanni Renda e Luca Passafaro
DESCRIPTION:La bellezza dei luoghi\, l’arte\, l’architettura\, la storia\, le tradizioni\, le tipicità locali\, le emozioni\, la semplicità delle persone: sono alcuni dei temi del libro “Anacleto e il paese degli asini volanti” (Atile Edizioni) di Giovanni Renda\, con le illustrazioni di Luca Passafaro. Un volume per riscoprire l’importanza delle identità locali\, l’armonia dei piccoli borghi e la meraviglia del proprio territorio. \n🥃 Un salotto\, un libro\, un amaro: è l’idea nata in collaborazione con Liquorificio Gentile\, grazie al quale\, durante l’evento\, sarà possibile degustare l’Amaro Eremita\, Medaglia d’Oro al World Liqueur Awards 2022. \n🗣️ Con Eugenio Attanasio\, Presidente della Cineteca della Calabria.
URL:https://hylebookfestival.it/evento/borghi-di-armonia-conversazione-con-giovanni-renda-e-luca-passafaro/
LOCATION:Martina Sport e La Terrazza del Buongustaio\, Via Eugenio Mancuso\, 88055 Taverna CZ
CATEGORIES:Un salotto, un libro, un amaro
ATTACH;FMTTYPE=image/png:https://hylebookfestival.it/wp-content/uploads/2023/07/borghi.png
END:VEVENT
END:VCALENDAR