BEGIN:VCALENDAR
VERSION:2.0
PRODID:-//Hyle Book Festival - ECPv6.0.10//NONSGML v1.0//EN
CALSCALE:GREGORIAN
METHOD:PUBLISH
X-ORIGINAL-URL:https://hylebookfestival.it
X-WR-CALDESC:Eventi per Hyle Book Festival
REFRESH-INTERVAL;VALUE=DURATION:PT1H
X-Robots-Tag:noindex
X-PUBLISHED-TTL:PT1H
BEGIN:VTIMEZONE
TZID:UTC
BEGIN:STANDARD
TZOFFSETFROM:+0000
TZOFFSETTO:+0000
TZNAME:UTC
DTSTART:20250101T000000
END:STANDARD
END:VTIMEZONE
BEGIN:VEVENT
DTSTART;TZID=UTC:20250823T170000
DTEND;TZID=UTC:20250823T180000
DTSTAMP:20260425T194038
CREATED:20250728T063604Z
LAST-MODIFIED:20250728T080053Z
UID:10000034-1755968400-1755972000@hylebookfestival.it
SUMMARY:Teatro Bosco Fosco
DESCRIPTION:TEATRO BOSCO FOSCO\nRecital per un minimo teatro della natura \nSiete tutte e tutti invitati nel bosco: qui potrete ascoltare le tante storie della vita e della morte\, della fantasia e della realtà. È nel bosco che la vita si moltiplica e che la notte diventa più buia del buio. Venite dunque ad ascoltare le mille voci della natura. Si va in bosco\, ci si siede\, ci si benda e si ascoltano le sue voci\, attraverso storie\, poesie\, avventure\, meditazioni\, parabole\, dialoghi da Una foresta ricamata (Mimesis Edizioni) di Tiziano Fratus. Voi dovrete soltanto destinare una porzione del vostro tempo a rilassarvi\, ascoltare e nutrirvi. \nTiziano Fratus è homo radix / dendrosofo / cercatore di alberi secolari / autore di boschi miniati nonché buddista silvestre. Ha pubblicato numerose opere per i maggiori editori italiani\, tra cui: Manuale del perfetto cercatore d’alberi (2013)\, Ogni albero è un poeta (2015)\, Il libro delle foreste scolpite (2015)\, Il bosco è un mondo (2018)\, Alberodonti d’Italia (2024). Ha curato rubriche per i quotidiani La Stampa\, la Repubblica\, il manifesto e La Verità; cura la serie di documentari Grandi alberi d’Italia per Geo di Rai 3.  \n📌 Partenza dalla Piazzetta Unicef \n🌧️In caso di pioggia l’evento è sostituito dalla presentazione del libro “Una foresta ricamata” presso la Sala Convegni del Centro Natura. \n 
URL:https://hylebookfestival.it/evento/teatro-bosco-fosco/
LOCATION:Centro Visita “A. Garcea” Località Monaco\, Strada Statale 179 Dir\, 17\, 88055\, Taverna (CZ)\, Italia
CATEGORIES:Hyle Heart
ATTACH;FMTTYPE=image/jpeg:https://hylebookfestival.it/wp-content/uploads/2025/07/Fratus-2-Paolo_Tangari-ph-1-e1753684644103.jpg
END:VEVENT
END:VCALENDAR