BEGIN:VCALENDAR
VERSION:2.0
PRODID:-//Hyle Book Festival - ECPv6.0.10//NONSGML v1.0//EN
CALSCALE:GREGORIAN
METHOD:PUBLISH
X-ORIGINAL-URL:https://hylebookfestival.it
X-WR-CALDESC:Eventi per Hyle Book Festival
REFRESH-INTERVAL;VALUE=DURATION:PT1H
X-Robots-Tag:noindex
X-PUBLISHED-TTL:PT1H
BEGIN:VTIMEZONE
TZID:UTC
BEGIN:STANDARD
TZOFFSETFROM:+0000
TZOFFSETTO:+0000
TZNAME:UTC
DTSTART:20250101T000000
END:STANDARD
END:VTIMEZONE
BEGIN:VEVENT
DTSTART;VALUE=DATE:20250822
DTEND;VALUE=DATE:20250825
DTSTAMP:20260419T183250
CREATED:20250728T073055Z
LAST-MODIFIED:20250728T073055Z
UID:10000042-1755820800-1756079999@hylebookfestival.it
SUMMARY:Incipitojo
DESCRIPTION:INCIPITOJO\nEsposizione di copertine di libri immaginari a cura di Lorenzo Scacchia. \nUn’esposizione insolita e visionaria accoglie i visitatori tra gli alberi: copertine di libri che non esistono ancora\, senza autore né trama\, composte solo da un titolo\, un’immagine evocativa e il logo di un editore immaginario.  I visitatori sono invitati a colmare il vuoto tra immagine e parola\, immaginando cosa potrebbero contenere quelle pagine mai scritte. Chi lo desidera potrà dare forma a questo sogno lasciando il proprio pensiero\, scritto a mano e appeso ai fili tesi tra gli alberi. Una piccola inversione del processo editoriale: qui è la copertina a generare la storia\, e l’autore è chi osserva. Un gioco collettivo\, poetico e libero\, dove la scrittura nasce da uno sguardo e l’installazione si trasforma in un gesto effimero\, che si dissolve alla sera\, lasciando tracce nella memoria e nello spazio. \n 📌 Punto libreria \n🌧️ In caso di pioggia la libreria si sposta presso il Centro Natura
URL:https://hylebookfestival.it/evento/incipitojo/
LOCATION:Centro Visita “A. Garcea” Località Monaco\, Strada Statale 179 Dir\, 17\, 88055\, Taverna (CZ)\, Italia
CATEGORIES:Esperienze letterarie
ATTACH;FMTTYPE=image/png:https://hylebookfestival.it/wp-content/uploads/2025/07/Scacchia.png
END:VEVENT
END:VCALENDAR